BEGIN:VCALENDAR
VERSION:2.0
PRODID:-//eventon.com NONSGML v1.0//EN
CALSCALE:GREGORIAN
METHOD:PUBLISH
BEGIN:VEVENT
UID:69ea19ed15cc8
DTSTAMP:20260423T130901Z
DTSTART:20260422T074600Z
DTEND:20260422T205900Z
LOCATION:
SUMMARY:GIORNATA DI CONTROLLO DELL'UDITO
DESCRIPTION:Senti bene? perdi le parole di chi ami? Scoprilo in 10 minuti. 
 Test dell'udito GRATUITO in Farmacia. Prenota il tuo appuntamento!\nhttps:/
 /farmaciaricciuti.com/events/giornata-di-controllo-delludito-2/
URL:https://farmaciaricciuti.com/events/giornata-di-controllo-delludito-2/
END:VEVENT
END:VCALENDAR