BEGIN:VCALENDAR
VERSION:2.0
PRODID:-//eventon.com NONSGML v1.0//EN
CALSCALE:GREGORIAN
METHOD:PUBLISH
BEGIN:VEVENT
UID:69ea1a4f594e2
DTSTAMP:20260423T131039Z
DTSTART:20260408T071200Z
DTEND:20260408T193200Z
LOCATION:
SUMMARY:GIORNATA IGIENE INTIMA E CORPO SAFORELLE
DESCRIPTION:Focus Benessere Intimo: acquista il tuo prodotto preferito e ri
 cevi un OMAGGIO esclusivo! Solo oggi in Farmacia\nhttps://farmaciaricciuti
 .com/events/giornata-igiene-intima-e-corpo-saforelle/
URL:https://farmaciaricciuti.com/events/giornata-igiene-intima-e-corpo-saforelle/
END:VEVENT
END:VCALENDAR