BEGIN:VCALENDAR
VERSION:2.0
PRODID:-//eventon.com NONSGML v1.0//EN
CALSCALE:GREGORIAN
METHOD:PUBLISH
BEGIN:VEVENT
UID:69ea0ee3dd48f
DTSTAMP:20260423T122155Z
DTSTART:20260427T070000Z
DTEND:20260427T234900Z
LOCATION:
SUMMARY:GIORNATA ANALISI VITAMINA D
DESCRIPTION:Proteggi le tue ossa e le tue difese: test della Vitamina D in 
 pochi minuti a soli 16€ Prenota il tuo appuntamento!\nhttps://farmaciaric
 ciuti.com/events/giornata-analisi-vitamina-d/
URL:https://farmaciaricciuti.com/events/giornata-analisi-vitamina-d/
END:VEVENT
END:VCALENDAR