BEGIN:VCALENDAR
VERSION:2.0
PRODID:-//eventon.com NONSGML v1.0//EN
CALSCALE:GREGORIAN
METHOD:PUBLISH
BEGIN:VEVENT
UID:69ea19804253d
DTSTAMP:20260423T130712Z
DTSTART:20260416T070000Z
DTEND:20260416T190000Z
LOCATION:
SUMMARY:GIORNATA TRUCCO EUPHIDRA
DESCRIPTION:Scopri i colori che illuminano il tuo viso: prenota la tua sedu
 ta di trucco gratuita con la nostra esperta! Prenota subito il tuo posto!\n
 https://farmaciaricciuti.com/events/giornata-trucco-euphidra/
URL:https://farmaciaricciuti.com/events/giornata-trucco-euphidra/
END:VEVENT
END:VCALENDAR