BEGIN:VCALENDAR
VERSION:2.0
PRODID:-//eventon.com NONSGML v1.0//EN
CALSCALE:GREGORIAN
METHOD:PUBLISH
BEGIN:VEVENT
UID:69e9db30b49c4
DTSTAMP:20260423T084120Z
DTSTART:20260415T070000Z
DTEND:20260415T193000Z
LOCATION:
SUMMARY:GIORNATA PELLE E CAPELLI
DESCRIPTION:La bellezza parte dalla salute: scopri i segreti della tua pell
 e con una consulenza gratuita su misura! Prenota subito il tuo posto!\nhttp
 s://farmaciaricciuti.com/events/giornata-pelle-e-capelli/
URL:https://farmaciaricciuti.com/events/giornata-pelle-e-capelli/
END:VEVENT
END:VCALENDAR