BEGIN:VCALENDAR
VERSION:2.0
PRODID:-//eventon.com NONSGML v1.0//EN
CALSCALE:GREGORIAN
METHOD:PUBLISH
BEGIN:VEVENT
UID:69ed004f9bdbb
DTSTAMP:20260425T175631Z
DTSTART:20251218T090000Z
DTEND:20251220T123000Z
LOCATION:Farmacia Ricciuti Via Garibaldi\,  108\,  Monselice\,  Italia
SUMMARY:IL TUO BAMBINO RESTA  ASCIUTTO TUTTA LA NOTTE?
DESCRIPTION:SUPER PAMPERS DAYS 18 - 19 - 20 DICEMBRE Pacco doppio baby dry 
 8\, 99 Salviettine Sole & Luna 1.20€ (promozione valida su tutte le tagli
 e) Scrivici il tuo ordine: Whatapp 3454024679 Fisso:042974400\nhttps://farm
 aciaricciuti.com/events/il-tuo-bambino-resta-asciutto-tutta-la-notte-19/
URL:https://farmaciaricciuti.com/events/il-tuo-bambino-resta-asciutto-tutta-la-notte-19/
END:VEVENT
END:VCALENDAR