BEGIN:VCALENDAR
VERSION:2.0
PRODID:-//eventon.com NONSGML v1.0//EN
CALSCALE:GREGORIAN
METHOD:PUBLISH
BEGIN:VEVENT
UID:69ecd9447e7c6
DTSTAMP:20260425T150956Z
DTSTART:20250529T090000Z
DTEND:20250529T123000Z
LOCATION:Farmacia Ricciuti Via Garibaldi\,  108\,  Monselice\,  Italia
SUMMARY:IL TUO BAMBINO RESTA  ASCIUTTO TUTTA LA NOTTE?
DESCRIPTION:SUPER PAMPERS DAYS 29 - 30 - 31 MAGGIO Pacco doppio baby dry 8\
 , 99 Salviettine Sole & Luna 1.20€ (promozione valida su tutte le taglie)
  Scrivici il tuo ordine: Whatapp 3454024679 Fisso:042974400\nhttps://farmac
 iaricciuti.com/events/il-tuo-bambino-resta-asciutto-tutta-la-notte-12/
URL:https://farmaciaricciuti.com/events/il-tuo-bambino-resta-asciutto-tutta-la-notte-12/
END:VEVENT
END:VCALENDAR