BEGIN:VCALENDAR
VERSION:2.0
PRODID:-//eventon.com NONSGML v1.0//EN
CALSCALE:GREGORIAN
METHOD:PUBLISH
BEGIN:VEVENT
UID:69ea62d318df7
DTSTAMP:20260423T182003Z
DTSTART:20240829
DTEND:20240830
LOCATION:Farmacia Ricciuti Via Garibaldi\,  108\,  Monselice\,  Italia
SUMMARY:MAMMA FAI SCORTA DI PANNOLINI!
DESCRIPTION:TIENI ASCIUTTO TUTTA LA NOTTE IL TUO BAMBINO Pacco doppio Baby 
 Dry (promozione valida su tutte le taglie) 8\, 99€ Salviettine Sole e Lun
 a 1\, 20€\nhttps://farmaciaricciuti.com/events/mamma-fai-scorta-di-pannol
 ini-8/
URL:https://farmaciaricciuti.com/events/mamma-fai-scorta-di-pannolini-8/
END:VEVENT
END:VCALENDAR