BEGIN:VCALENDAR
VERSION:2.0
PRODID:-//eventon.com NONSGML v1.0//EN
CALSCALE:GREGORIAN
METHOD:PUBLISH
BEGIN:VEVENT
UID:69ebee2fc7ab3
DTSTAMP:20260424T222655Z
DTSTART:20220711
DTEND:20220712
LOCATION:Farmacia Ricciuti Via Garibaldi\,  108\,  Monselice\,  Italia
SUMMARY:Grigliate\,  aperitivi non vi temo!
DESCRIPTION:Xls Medical  pensa a noi durante l'estate SUMMER PROMO fino al
  14 Agosto -20% sulla nuova linea Pro 7 -35% sulla linea Classica XL-s &nbs
 p; &nbsp;\nhttps://farmaciaricciuti.com/events/grigliate-aperitivi-non-vi-t
 emo/
URL:https://farmaciaricciuti.com/events/grigliate-aperitivi-non-vi-temo/
END:VEVENT
END:VCALENDAR