BEGIN:VCALENDAR
VERSION:2.0
PRODID:-//eventon.com NONSGML v1.0//EN
CALSCALE:GREGORIAN
METHOD:PUBLISH
BEGIN:VEVENT
UID:69ed8ee5e283a
DTSTAMP:20260426T040453Z
DTSTART:20220707T090000Z
DTEND:20220707T121000Z
LOCATION:Farmacia Ricciuti Via Garibaldi\,  108\,  Monselice\,  Italia
SUMMARY:Pronto...? Pronto...? Pronto...?
DESCRIPTION:GIORNATA CONTROLLO AUDIOMETRICO GRATUITO Giovedì 7 Luglio Pren
 ota il tuo appuntamento\, posti limitati\nhttps://farmaciaricciuti.com/even
 ts/pronto-pronto-pronto/
URL:https://farmaciaricciuti.com/events/pronto-pronto-pronto/
END:VEVENT
END:VCALENDAR