BEGIN:VCALENDAR
VERSION:2.0
PRODID:-//eventon.com NONSGML v1.0//EN
CALSCALE:GREGORIAN
METHOD:PUBLISH
BEGIN:VEVENT
UID:69ebdbca45508
DTSTAMP:20260424T210826Z
DTSTART:20220627T090000Z
DTEND:20220627T123000Z
LOCATION:Farmacia Ricciuti Via Garibaldi\,  108\,  Monselice\,  Italia
SUMMARY:MAL DI SCHIENA? DOLORI ARTICOLARI?
DESCRIPTION:Lunedì 27 Giugno GIORNATA PODOLOGO-POSTURALE GRATUITA prenota 
 il tuo appuntamento\,  posti limitati\nhttps://farmaciaricciuti.com/events/
 mal-di-schiena-dolori-articolari/
URL:https://farmaciaricciuti.com/events/mal-di-schiena-dolori-articolari/
END:VEVENT
END:VCALENDAR